BEGIN:VCALENDAR
VERSION:2.0
PRODID:-//Tricia Barr - ECPv4.9.1.1//NONSGML v1.0//EN
CALSCALE:GREGORIAN
METHOD:PUBLISH
X-WR-CALNAME:Tricia Barr
X-ORIGINAL-URL:http://triciabarr.com
X-WR-CALDESC:Events for Tricia Barr
BEGIN:VEVENT
DTSTART;TZID=America/New_York:20150419T110000
DTEND;TZID=America/New_York:20150419T120000
DTSTAMP:20260420T003846
CREATED:20150409T003622Z
LAST-MODIFIED:20150409T003622Z
UID:899-1429441200-1429444800@triciabarr.com
SUMMARY:From a Certain Point of View: The Diversity of Opinions in Star Wars Panel
DESCRIPTION:Tricia moderates the panel From a Certain Point of View: The Diversity of Opinions in Star Wars at Star Wars Celebration’s Fan Stage 303ABCD. \nTo find out more\, check out: http://starwars15.mapyourshow.com/6_0/sessions/session-details.cfm?ScheduleID=130 \nSpread the word:EmailTwitterFacebookTumblr\n\n	Related\n
URL:http://triciabarr.com/event/from-a-certain-point-of-view-the-diversity-of-opinions-in-star-wars-panel/
LOCATION:Anaheim Convention Center\, Anaheim\, CA\, United States
END:VEVENT
END:VCALENDAR