BEGIN:VCALENDAR
VERSION:2.0
PRODID:-//Tricia Barr - ECPv4.9.1.1//NONSGML v1.0//EN
CALSCALE:GREGORIAN
METHOD:PUBLISH
X-WR-CALNAME:Tricia Barr
X-ORIGINAL-URL:http://triciabarr.com
X-WR-CALDESC:Events for Tricia Barr
BEGIN:VEVENT
DTSTART;TZID=America/New_York:20150415T190000
DTEND;TZID=America/New_York:20150416T000000
DTSTAMP:20260420T051619
CREATED:20150408T220304Z
LAST-MODIFIED:20150410T161638Z
UID:883-1429124400-1429142400@triciabarr.com
SUMMARY:Rebel Force Radio Party
DESCRIPTION:This event is currently sold out. \nSpread the word:EmailTwitterFacebookTumblr\n\n	Related\n
URL:http://triciabarr.com/event/rebel-force-radio-party/
LOCATION:Sheraton\, Anaheim\, CA\, United States
ATTACH;FMTTYPE=image/jpeg:http://triciabarr.com/wp-content/uploads/2015/04/RFR-300x300-e1428622753778.jpg
END:VEVENT
END:VCALENDAR