BEGIN:VCALENDAR
VERSION:2.0
PRODID:-//Tricia Barr - ECPv4.9.1.1//NONSGML v1.0//EN
CALSCALE:GREGORIAN
METHOD:PUBLISH
X-WR-CALNAME:Tricia Barr
X-ORIGINAL-URL:http://triciabarr.com
X-WR-CALDESC:Events for Tricia Barr
BEGIN:VEVENT
DTSTART;TZID=America/New_York:20150416T183000
DTEND;TZID=America/New_York:20150416T200000
DTSTAMP:20260420T024750
CREATED:20150408T221232Z
LAST-MODIFIED:20150408T221232Z
UID:889-1429209000-1429214400@triciabarr.com
SUMMARY:Star Wars Podcast Fan Meetup
DESCRIPTION:Spread the word:EmailTwitterFacebookTumblr\n\n	Related\n
URL:http://triciabarr.com/event/star-wars-podcast-fan-meetup/
LOCATION:Hilton\, Anaheim\, CA\, United States
END:VEVENT
END:VCALENDAR