BEGIN:VCALENDAR
VERSION:2.0
PRODID:-//Tricia Barr - ECPv4.9.1.1//NONSGML v1.0//EN
CALSCALE:GREGORIAN
METHOD:PUBLISH
X-WR-CALNAME:Tricia Barr
X-ORIGINAL-URL:http://triciabarr.com
X-WR-CALDESC:Events for Tricia Barr
BEGIN:VEVENT
DTSTART;TZID=America/New_York:20150417T140000
DTEND;TZID=America/New_York:20150417T150000
DTSTAMP:20260420T024557
CREATED:20150408T222600Z
LAST-MODIFIED:20150409T234214Z
UID:891-1429279200-1429282800@triciabarr.com
SUMMARY:Ultimate Star Wars Author Signing
DESCRIPTION:Tricia will be signing at the DK Booth (#1100). \nSpread the word:EmailTwitterFacebookTumblr\n\n	Related\n
URL:http://triciabarr.com/event/ultimate-star-wars-author-signing-2/
LOCATION:Anaheim Convention Center\, Anaheim\, CA\, United States
ATTACH;FMTTYPE=image/jpeg:http://triciabarr.com/wp-content/uploads/2015/04/UltimateStarWarscover-e1428622872820.jpg
END:VEVENT
END:VCALENDAR