BEGIN:VCALENDAR
VERSION:2.0
PRODID:-//Tricia Barr - ECPv4.9.1.1//NONSGML v1.0//EN
CALSCALE:GREGORIAN
METHOD:PUBLISH
X-WR-CALNAME:Tricia Barr
X-ORIGINAL-URL:http://triciabarr.com
X-WR-CALDESC:Events for Tricia Barr
BEGIN:VEVENT
DTSTART;TZID=America/New_York:20150501T190000
DTEND;TZID=America/New_York:20150501T210000
DTSTAMP:20260420T003034
CREATED:20150404T040237Z
LAST-MODIFIED:20150410T000157Z
UID:838-1430506800-1430514000@triciabarr.com
SUMMARY:Ultimate Star Wars Event
DESCRIPTION:A game of trivia\, a Q&A with Tricia\, a book signing and in-store raffles and giveaways. \nSpread the word:EmailTwitterFacebookTumblr\n\n	Related\n
URL:http://triciabarr.com/event/ultimate-star-wars-event-2/
LOCATION:Books-A-Million\, 2006 58th Ave\, Vero Beach\, FL\, 32966\, United States
ATTACH;FMTTYPE=image/jpeg:http://triciabarr.com/wp-content/uploads/2015/04/UltimateStarWarscover-e1428622872820.jpg
END:VEVENT
END:VCALENDAR