BEGIN:VCALENDAR
VERSION:2.0
PRODID:-//Tricia Barr - ECPv4.9.1.1//NONSGML v1.0//EN
CALSCALE:GREGORIAN
METHOD:PUBLISH
X-WR-CALNAME:Tricia Barr
X-ORIGINAL-URL:http://triciabarr.com
X-WR-CALDESC:Events for Tricia Barr
BEGIN:VEVENT
DTSTART;TZID=America/New_York:20150506T153000
DTEND;TZID=America/New_York:20150506T173000
DTSTAMP:20260420T003220
CREATED:20150404T042904Z
LAST-MODIFIED:20150410T000314Z
UID:844-1430926200-1430933400@triciabarr.com
SUMMARY:Ultimate Star Wars Event
DESCRIPTION:A game of trivia\, a Q&A with Tricia and fellow Ultimate Star Wars author Adam Bray\, a book signing\, raffles and giveaways. \nSpread the word:EmailTwitterFacebookTumblr\n\n	Related\n
URL:http://triciabarr.com/event/ultimate-star-wars-event-4/
LOCATION:Carlsbad Library\, 1775 Dove Lane\, Carlsbad\, CA\, 92011\, United States
ATTACH;FMTTYPE=image/jpeg:http://triciabarr.com/wp-content/uploads/2015/04/UltimateStarWarscover-e1428622872820.jpg
END:VEVENT
END:VCALENDAR