BEGIN:VCALENDAR
VERSION:2.0
PRODID:-//Tricia Barr - ECPv4.9.1.1//NONSGML v1.0//EN
CALSCALE:GREGORIAN
METHOD:PUBLISH
X-WR-CALNAME:Tricia Barr
X-ORIGINAL-URL:http://triciabarr.com
X-WR-CALDESC:Events for Tricia Barr
BEGIN:VEVENT
DTSTART;TZID=America/New_York:20150504T190000
DTEND;TZID=America/New_York:20150504T210000
DTSTAMP:20260420T002817
CREATED:20150329T230152Z
LAST-MODIFIED:20150410T000302Z
UID:678-1430766000-1430773200@triciabarr.com
SUMMARY:Ultimate Star Wars Event
DESCRIPTION:Lucasfilm writer Adam Bray and Star Wars podcaster Tricia Barr visit for a presentation of the newest illustrated Star Wars guide\, packed full of information about key characters and storylines from the original Star Wars\, The Clone Wars\, Rebels\, and the expanded universe. \nSpread the word:EmailTwitterFacebookTumblr\n\n	Related\n
URL:http://triciabarr.com/event/ultimate-star-wars-event/
LOCATION:Changing Hands Bookstore\, 6428 S McClintock Dr\, Tempe\, AZ\, 85283\, United States
ATTACH;FMTTYPE=image/jpeg:http://triciabarr.com/wp-content/uploads/2015/04/UltimateStarWarscover-e1428622872820.jpg
END:VEVENT
END:VCALENDAR