BEGIN:VCALENDAR
VERSION:2.0
PRODID:-//Tricia Barr - ECPv4.9.1.1//NONSGML v1.0//EN
CALSCALE:GREGORIAN
METHOD:PUBLISH
X-WR-CALNAME:Tricia Barr
X-ORIGINAL-URL:http://triciabarr.com
X-WR-CALDESC:Events for Tricia Barr
BEGIN:VEVENT
DTSTART;TZID=America/New_York:20150503T150000
DTEND;TZID=America/New_York:20150503T170000
DTSTAMP:20260420T024926
CREATED:20150404T041840Z
LAST-MODIFIED:20150410T000226Z
UID:842-1430665200-1430672400@triciabarr.com
SUMMARY:Ultimate Star Wars Party!
DESCRIPTION:Tricia Barr is a prominent blogger and podcaster who has been sharing her passion for Star Wars since cosplaying Princess Leia in 1977. She regularly contributes feature articles for Star Wars Insider and authored the award-winning space opera novel Wynde.\nShe’ll be discussing and signing her new book published by DK\, Ultimate Star Wars. We’ll also have fun crafts\, snack and activities. Wear your best StarWars costume and win a prize! \nSpread the word:EmailTwitterFacebookTumblr\n\n	Related\n
URL:http://triciabarr.com/event/ultimate-star-wars-party/
LOCATION:Little Shop of Stories\, 133 East Court Square # A\, Decatur\, GA\, 30030\, United States
ATTACH;FMTTYPE=image/jpeg:http://triciabarr.com/wp-content/uploads/2015/04/UltimateStarWarscover-e1428622872820.jpg
END:VEVENT
END:VCALENDAR