BEGIN:VCALENDAR
VERSION:2.0
PRODID:-//Tricia Barr - ECPv4.9.1.1//NONSGML v1.0//EN
CALSCALE:GREGORIAN
METHOD:PUBLISH
X-WR-CALNAME:Tricia Barr
X-ORIGINAL-URL:https://triciabarr.com
X-WR-CALDESC:Events for Tricia Barr
BEGIN:VEVENT
DTSTART;TZID=America/New_York:20170414T123000
DTEND;TZID=America/New_York:20170414T143000
DTSTAMP:20260419T163005
CREATED:20170406T020910Z
LAST-MODIFIED:20170407T010206Z
UID:1352-1492173000-1492180200@triciabarr.com
SUMMARY:Celebration Orlando: Star Wars Visual Encyclopedia Signing
DESCRIPTION:Star Wars: The Visual Encyclopedia Author Signing\nApril 14\, 2017\, 12:30 p.m. – 2:30 p.m.\nDK Booth (#2625)\nAuthors Tricia Barr\, Adam Bray\, and Cole Horton will be signing copies of the newly published book at the DK booth in the Exhibit Hall. \n \nSpread the word:EmailTwitterFacebookTumblr\n\n	Related\n
URL:https://triciabarr.com/event/celebration-orlando-star-wars-visual-encyclopedia-signing-2/
ATTACH;FMTTYPE=image/png:https://triciabarr.com/wp-content/uploads/2017/04/SWCO17_Logo.png
END:VEVENT
END:VCALENDAR